BEGIN:VCALENDAR
VERSION:2.0
PRODID:-//Kilkeel Golf Club - ECPv6.15.20//NONSGML v1.0//EN
CALSCALE:GREGORIAN
METHOD:PUBLISH
X-ORIGINAL-URL:https://kilkeelgolfclub.com
X-WR-CALDESC:Events for Kilkeel Golf Club
REFRESH-INTERVAL;VALUE=DURATION:PT1H
X-Robots-Tag:noindex
X-PUBLISHED-TTL:PT1H
BEGIN:VTIMEZONE
TZID:Europe/London
BEGIN:DAYLIGHT
TZOFFSETFROM:+0000
TZOFFSETTO:+0100
TZNAME:BST
DTSTART:20240331T010000
END:DAYLIGHT
BEGIN:STANDARD
TZOFFSETFROM:+0100
TZOFFSETTO:+0000
TZNAME:GMT
DTSTART:20241027T010000
END:STANDARD
BEGIN:DAYLIGHT
TZOFFSETFROM:+0000
TZOFFSETTO:+0100
TZNAME:BST
DTSTART:20250330T010000
END:DAYLIGHT
BEGIN:STANDARD
TZOFFSETFROM:+0100
TZOFFSETTO:+0000
TZNAME:GMT
DTSTART:20251026T010000
END:STANDARD
BEGIN:DAYLIGHT
TZOFFSETFROM:+0000
TZOFFSETTO:+0100
TZNAME:BST
DTSTART:20260329T010000
END:DAYLIGHT
BEGIN:STANDARD
TZOFFSETFROM:+0100
TZOFFSETTO:+0000
TZNAME:GMT
DTSTART:20261025T010000
END:STANDARD
END:VTIMEZONE
BEGIN:VEVENT
DTSTART;VALUE=DATE:20250827
DTEND;VALUE=DATE:20250828
DTSTAMP:20260421T211407
CREATED:20250417T220443Z
LAST-MODIFIED:20250417T220815Z
UID:6059-1756252800-1756339199@kilkeelgolfclub.com
SUMMARY:Wednesday 9 hole
DESCRIPTION:
URL:https://kilkeelgolfclub.com/event/wednesday-9-hole-18/
CATEGORIES:Men's Member only
END:VEVENT
BEGIN:VEVENT
DTSTART;VALUE=DATE:20250823
DTEND;VALUE=DATE:20250824
DTSTAMP:20260421T211407
CREATED:20250501T215511Z
LAST-MODIFIED:20250501T215511Z
UID:6423-1755907200-1755993599@kilkeelgolfclub.com
SUMMARY:Daniel Sloan Gent's Stableford
DESCRIPTION:Daniel Sloan Gent’s Stableford \nMembers only
URL:https://kilkeelgolfclub.com/event/daniel-sloan-gents-stableford-2/
CATEGORIES:Men's Member only
END:VEVENT
BEGIN:VEVENT
DTSTART;VALUE=DATE:20250821
DTEND;VALUE=DATE:20250822
DTSTAMP:20260421T211407
CREATED:20250501T215432Z
LAST-MODIFIED:20250501T215432Z
UID:6421-1755734400-1755820799@kilkeelgolfclub.com
SUMMARY:Daniel Sloan Gent's Stableford
DESCRIPTION:Daniel Sloan Gent’s Stableford \nMembers only
URL:https://kilkeelgolfclub.com/event/daniel-sloan-gents-stableford/
CATEGORIES:Men's Member only
END:VEVENT
BEGIN:VEVENT
DTSTART;VALUE=DATE:20250820
DTEND;VALUE=DATE:20250821
DTSTAMP:20260421T211407
CREATED:20250417T220408Z
LAST-MODIFIED:20250417T220749Z
UID:6057-1755648000-1755734399@kilkeelgolfclub.com
SUMMARY:Wednesday 9 hole
DESCRIPTION:
URL:https://kilkeelgolfclub.com/event/wednesday-9-hole-17/
CATEGORIES:Men's Member only
END:VEVENT
BEGIN:VEVENT
DTSTART;VALUE=DATE:20250813
DTEND;VALUE=DATE:20250814
DTSTAMP:20260421T211407
CREATED:20250417T220342Z
LAST-MODIFIED:20250417T220725Z
UID:6055-1755043200-1755129599@kilkeelgolfclub.com
SUMMARY:Wednesday 9 hole
DESCRIPTION:
URL:https://kilkeelgolfclub.com/event/wednesday-9-hole-16/
CATEGORIES:Men's Member only
END:VEVENT
BEGIN:VEVENT
DTSTART;VALUE=DATE:20250809
DTEND;VALUE=DATE:20250810
DTSTAMP:20260421T211407
CREATED:20250501T215049Z
LAST-MODIFIED:20250501T215049Z
UID:6415-1754697600-1754783999@kilkeelgolfclub.com
SUMMARY:President's Day
DESCRIPTION:President’s Day – Victor Quinn
URL:https://kilkeelgolfclub.com/event/presidents-day-2/
CATEGORIES:Men's Member only
END:VEVENT
BEGIN:VEVENT
DTSTART;VALUE=DATE:20250807
DTEND;VALUE=DATE:20250808
DTSTAMP:20260421T211407
CREATED:20250501T215006Z
LAST-MODIFIED:20250501T215006Z
UID:6413-1754524800-1754611199@kilkeelgolfclub.com
SUMMARY:President's Day
DESCRIPTION:President’s Day – Victor Quinn
URL:https://kilkeelgolfclub.com/event/presidents-day/
CATEGORIES:Men's Member only
END:VEVENT
BEGIN:VEVENT
DTSTART;VALUE=DATE:20250806
DTEND;VALUE=DATE:20250807
DTSTAMP:20260421T211407
CREATED:20250417T220314Z
LAST-MODIFIED:20250417T220602Z
UID:6053-1754438400-1754524799@kilkeelgolfclub.com
SUMMARY:Wednesday 9 hole
DESCRIPTION:
URL:https://kilkeelgolfclub.com/event/wednesday-9-hole-15/
CATEGORIES:Men's Member only
END:VEVENT
BEGIN:VEVENT
DTSTART;VALUE=DATE:20250730
DTEND;VALUE=DATE:20250731
DTSTAMP:20260421T211407
CREATED:20250417T220224Z
LAST-MODIFIED:20250417T220224Z
UID:6051-1753833600-1753919999@kilkeelgolfclub.com
SUMMARY:Wednesday 9 hole
DESCRIPTION:
URL:https://kilkeelgolfclub.com/event/wednesday-9-hole-14/
CATEGORIES:Men's Member only
END:VEVENT
BEGIN:VEVENT
DTSTART;VALUE=DATE:20250723
DTEND;VALUE=DATE:20250724
DTSTAMP:20260421T211407
CREATED:20250417T220154Z
LAST-MODIFIED:20250417T220154Z
UID:6049-1753228800-1753315199@kilkeelgolfclub.com
SUMMARY:Wednesday 9 hole
DESCRIPTION:
URL:https://kilkeelgolfclub.com/event/wednesday-9-hole-13/
CATEGORIES:Men's Member only
END:VEVENT
BEGIN:VEVENT
DTSTART;VALUE=DATE:20250716
DTEND;VALUE=DATE:20250717
DTSTAMP:20260421T211407
CREATED:20250417T220122Z
LAST-MODIFIED:20250605T173530Z
UID:6047-1752624000-1752710399@kilkeelgolfclub.com
SUMMARY:Ladies & Gents Open Stableford - ADDA Build
DESCRIPTION:
URL:https://kilkeelgolfclub.com/event/wednesday-9-hole-12/
CATEGORIES:Men's Member only
END:VEVENT
BEGIN:VEVENT
DTSTART;VALUE=DATE:20250709
DTEND;VALUE=DATE:20250710
DTSTAMP:20260421T211407
CREATED:20250417T220050Z
LAST-MODIFIED:20250417T220050Z
UID:6045-1752019200-1752105599@kilkeelgolfclub.com
SUMMARY:Wednesday 9 hole
DESCRIPTION:
URL:https://kilkeelgolfclub.com/event/wednesday-9-hole-11/
CATEGORIES:Men's Member only
END:VEVENT
BEGIN:VEVENT
DTSTART;VALUE=DATE:20250702
DTEND;VALUE=DATE:20250703
DTSTAMP:20260421T211407
CREATED:20250417T220025Z
LAST-MODIFIED:20250417T220025Z
UID:6043-1751414400-1751500799@kilkeelgolfclub.com
SUMMARY:Wednesday 9 hole
DESCRIPTION:
URL:https://kilkeelgolfclub.com/event/wednesday-9-hole-10/
CATEGORIES:Men's Member only
END:VEVENT
BEGIN:VEVENT
DTSTART;VALUE=DATE:20250628
DTEND;VALUE=DATE:20250629
DTSTAMP:20260421T211407
CREATED:20250425T210847Z
LAST-MODIFIED:20250627T154843Z
UID:6324-1751068800-1751155199@kilkeelgolfclub.com
SUMMARY:Captain's-Day
DESCRIPTION:Captain’s Day – Mr Frank Reilly \n 
URL:https://kilkeelgolfclub.com/event/captains-day/
CATEGORIES:Men's Member only
END:VEVENT
BEGIN:VEVENT
DTSTART;VALUE=DATE:20250625
DTEND;VALUE=DATE:20250626
DTSTAMP:20260421T211407
CREATED:20250417T215957Z
LAST-MODIFIED:20250417T215957Z
UID:6041-1750809600-1750895999@kilkeelgolfclub.com
SUMMARY:Wednesday 9 hole
DESCRIPTION:
URL:https://kilkeelgolfclub.com/event/wednesday-9-hole-9/
CATEGORIES:Men's Member only
END:VEVENT
BEGIN:VEVENT
DTSTART;VALUE=DATE:20250621
DTEND;VALUE=DATE:20250622
DTSTAMP:20260421T211407
CREATED:20250425T210359Z
LAST-MODIFIED:20250425T210359Z
UID:6319-1750464000-1750550399@kilkeelgolfclub.com
SUMMARY:Joanne McCartan Solicitors Gents Stableford
DESCRIPTION:Joanne McCartan Solicitors Gents Stableford \nMembers only
URL:https://kilkeelgolfclub.com/event/joanne-mccartan-solicitors-gents-stableford-2/
CATEGORIES:Men's Member only
END:VEVENT
BEGIN:VEVENT
DTSTART;VALUE=DATE:20250619
DTEND;VALUE=DATE:20250620
DTSTAMP:20260421T211407
CREATED:20250425T210310Z
LAST-MODIFIED:20250425T210325Z
UID:6317-1750291200-1750377599@kilkeelgolfclub.com
SUMMARY:Joanne McCartan Solicitors Gents Stableford
DESCRIPTION:Joanne McCartan Solicitors Gents Stableford \nMembers only
URL:https://kilkeelgolfclub.com/event/joanne-mccartan-solicitors-gents-stableford/
CATEGORIES:Men's Member only
END:VEVENT
BEGIN:VEVENT
DTSTART;VALUE=DATE:20250618
DTEND;VALUE=DATE:20250619
DTSTAMP:20260421T211407
CREATED:20250417T215931Z
LAST-MODIFIED:20250417T215931Z
UID:6039-1750204800-1750291199@kilkeelgolfclub.com
SUMMARY:Wednesday 9 hole
DESCRIPTION:
URL:https://kilkeelgolfclub.com/event/wednesday-9-hole-8/
CATEGORIES:Men's Member only
END:VEVENT
BEGIN:VEVENT
DTSTART;VALUE=DATE:20250614
DTEND;VALUE=DATE:20250615
DTSTAMP:20260421T211407
CREATED:20250425T210128Z
LAST-MODIFIED:20250609T195042Z
UID:6314-1749859200-1749945599@kilkeelgolfclub.com
SUMMARY:RT Tiling Open Stableford
DESCRIPTION:RT Tiling Open Stableford \nRyan Trainor
URL:https://kilkeelgolfclub.com/event/rt-tiling-open-stableford/
CATEGORIES:Men's Member only
END:VEVENT
BEGIN:VEVENT
DTSTART;VALUE=DATE:20250612
DTEND;VALUE=DATE:20250613
DTSTAMP:20260421T211407
CREATED:20250425T210049Z
LAST-MODIFIED:20250609T195200Z
UID:6312-1749686400-1749772799@kilkeelgolfclub.com
SUMMARY:RT Tiling Open Stableford
DESCRIPTION:RT Tiling Open Stableford \nMr Ryan Trainor
URL:https://kilkeelgolfclub.com/event/rt-tiling-open-stableford-2/
CATEGORIES:Men's Member only
END:VEVENT
BEGIN:VEVENT
DTSTART;VALUE=DATE:20250611
DTEND;VALUE=DATE:20250612
DTSTAMP:20260421T211407
CREATED:20250417T215905Z
LAST-MODIFIED:20250417T215905Z
UID:6037-1749600000-1749686399@kilkeelgolfclub.com
SUMMARY:Wednesday 9 hole
DESCRIPTION:
URL:https://kilkeelgolfclub.com/event/wednesday-9-hole-7/
CATEGORIES:Men's Member only
END:VEVENT
BEGIN:VEVENT
DTSTART;VALUE=DATE:20250604
DTEND;VALUE=DATE:20250605
DTSTAMP:20260421T211407
CREATED:20250417T215540Z
LAST-MODIFIED:20250417T215732Z
UID:6032-1748995200-1749081599@kilkeelgolfclub.com
SUMMARY:Wednesday 9 hole
DESCRIPTION:
URL:https://kilkeelgolfclub.com/event/wednesday-9-hole-5/
CATEGORIES:Men's Member only
END:VEVENT
BEGIN:VEVENT
DTSTART;VALUE=DATE:20250531
DTEND;VALUE=DATE:20250601
DTSTAMP:20260421T211407
CREATED:20250425T153648Z
LAST-MODIFIED:20250525T135532Z
UID:6306-1748649600-1748735999@kilkeelgolfclub.com
SUMMARY:Poundworld Gent's Stableford
DESCRIPTION:Poundworld Gent’s Stableford sponsored by Mr William Holmes \nMembers only
URL:https://kilkeelgolfclub.com/event/poundworld-gents-stableford-2/
CATEGORIES:Men's Member only
END:VEVENT
BEGIN:VEVENT
DTSTART;VALUE=DATE:20250529
DTEND;VALUE=DATE:20250530
DTSTAMP:20260421T211407
CREATED:20250425T153552Z
LAST-MODIFIED:20250525T135621Z
UID:6303-1748476800-1748563199@kilkeelgolfclub.com
SUMMARY:Poundworld Gent's Stableford
DESCRIPTION:Poundworld Gent’s Stableford sponsored by Mr William Holmes \nMembers only
URL:https://kilkeelgolfclub.com/event/poundworld-gents-stableford/
CATEGORIES:Men's Member only
END:VEVENT
BEGIN:VEVENT
DTSTART;VALUE=DATE:20250528
DTEND;VALUE=DATE:20250529
DTSTAMP:20260421T211407
CREATED:20250419T153105Z
LAST-MODIFIED:20250419T153105Z
UID:6211-1748390400-1748476799@kilkeelgolfclub.com
SUMMARY:Wednesday 9 hole
DESCRIPTION:
URL:https://kilkeelgolfclub.com/event/wednesday-9-hole-23/
CATEGORIES:Men's Member only
END:VEVENT
BEGIN:VEVENT
DTSTART;VALUE=DATE:20250521
DTEND;VALUE=DATE:20250522
DTSTAMP:20260421T211407
CREATED:20250417T215702Z
LAST-MODIFIED:20250417T215702Z
UID:6034-1747785600-1747871999@kilkeelgolfclub.com
SUMMARY:Wednesday 9 hole
DESCRIPTION:
URL:https://kilkeelgolfclub.com/event/wednesday-9-hole-6/
CATEGORIES:Men's Member only
END:VEVENT
BEGIN:VEVENT
DTSTART;VALUE=DATE:20250514
DTEND;VALUE=DATE:20250515
DTSTAMP:20260421T211407
CREATED:20250417T215512Z
LAST-MODIFIED:20250417T215512Z
UID:6030-1747180800-1747267199@kilkeelgolfclub.com
SUMMARY:Wednesday 9 hole
DESCRIPTION:
URL:https://kilkeelgolfclub.com/event/wednesday-9-hole-4/
CATEGORIES:Men's Member only
END:VEVENT
BEGIN:VEVENT
DTSTART;VALUE=DATE:20250507
DTEND;VALUE=DATE:20250508
DTSTAMP:20260421T211407
CREATED:20250417T215437Z
LAST-MODIFIED:20250417T215437Z
UID:6028-1746576000-1746662399@kilkeelgolfclub.com
SUMMARY:Wednesday 9 hole
DESCRIPTION:
URL:https://kilkeelgolfclub.com/event/wednesday-9-hole-3/
CATEGORIES:Men's Member only
END:VEVENT
BEGIN:VEVENT
DTSTART;VALUE=DATE:20250430
DTEND;VALUE=DATE:20250501
DTSTAMP:20260421T211407
CREATED:20250417T215403Z
LAST-MODIFIED:20250417T215403Z
UID:6026-1745971200-1746057599@kilkeelgolfclub.com
SUMMARY:Wednesday 9 hole
DESCRIPTION:
URL:https://kilkeelgolfclub.com/event/wednesday-9-hole-2/
CATEGORIES:Men's Member only
END:VEVENT
BEGIN:VEVENT
DTSTART;VALUE=DATE:20250423
DTEND;VALUE=DATE:20250424
DTSTAMP:20260421T211407
CREATED:20250417T215132Z
LAST-MODIFIED:20250417T215318Z
UID:6024-1745366400-1745452799@kilkeelgolfclub.com
SUMMARY:Wednesday 9 hole
DESCRIPTION:
URL:https://kilkeelgolfclub.com/event/wednesday-9-hole/
CATEGORIES:Men's Member only
END:VEVENT
END:VCALENDAR